BEGIN:VCALENDAR
METHOD:PUBLISH
PRODID:-//Weblication CMS
VERSION:2.0
BEGIN:VEVENT
SUMMARY:35. Vollversammlung des Elternrates
DTSTART:20250310T190000
DTEND:20250310T190000
DESCRIPTION:
LOCATION:Rüfenacht
UID:http://www.schulen-worb.ch/schule/veranstaltungen/termine/35-Vollversammlung-des-Elternrates-1.php
URL:http://www.schulen-worb.ch/schule/veranstaltungen/termine/35-Vollversammlung-des-Elternrates-1.php
END:VEVENT
END:VCALENDAR